Workbook
Name BMP: 'Behind-the-meter PV'!$A$1:$I$3
Name caiso_mw: 'CAISO MW by Tech'!$A$13:$DV$187
Name mss_load_following: #REF!
Name non_caiso_mw: 'Non-CAISO MW by Tech'!$A$10:$DV$188
Name sum_caiso_mw: 'CAISO MW by Tech'!$E$1:$DV$6
Name sum_mss_load_following: #REF!
Name sum_non_caiso_mw: 'Non-CAISO MW by Tech'!$E$1:$DV$6

Sheet Instructions

Sheet Contact Information
A1: CURRENT CAISO LRA ID | B1: CURRENT CAISO LSE ID | C1: Contact Email Address

Sheet CAISO MW by Tech
E1: Standalone VER | F1: Existing on 1/1/25 | G1: 45658 | H1: 45689 | I1: 45717 | J1: 45748 | K1: 45778 | L1: 45809 | M1: 45839 | N1: 45870 | O1: 45901 | P1: 45931 | Q1: 45962 | R1: 45992 | S1: 46023 | T1: 46054 | U1: 46082 | V1: 46113 | W1: 46143 | X1: 46174 | Y1: 46204 | Z1: 46235 | AA1: 46266 | AB1: 46296 | AC1: 46327 | AD1: 46357 | AE1: 46388 | AF1: 46419 | AG1: 46447 | AH1: 46478 | AI1: 46508 | AJ1: 46539 | AK1: 46569 | AL1: 46600 | AM1: 46631 | AN1: 46661 | AO1: 46692 | AP1: 46722 | AQ1: 46753 | AR1: 46784 | AS1: 46813 | AT1: 46844 | AU1: 46874 | AV1: 46905 | AW1: 46935 | AX1: 46966 | AY1: 46997 | AZ1: 47027 | BA1: 47058 | BB1: 47088 | BC1: 47119 | BD1: 47150 | BE1: 47178 | BF1: 47209 | BG1: 47239 | BH1: 47270 | BI1: 47300 | BJ1: 47331 | BK1: 47362 | BL1: 47392 | BM1: 47423 | BN1: 47453 | BO1: 47484 | BP1: 47515 | BQ1: 47543 | BR1: 47574 | BS1: 47604 | BT1: 47635 | BU1: 47665 | BV1: 47696 | BW1: 47727 | BX1: 47757 | BY1: 47788 | BZ1: 47818 | CA1: 47849 | CB1: 47880 | CC1: 47908 | CD1: 47939 | CE1: 47969 | CF1: 48000 | CG1: 48030 | CH1: 48061 | CI1: 48092 | CJ1: 48122 | CK1: 48153 | CL1: 48183 | CM1: 48214 | CN1: 48245 | CO1: 48274 | CP1: 48305 | CQ1: 48335 | CR1: 48366 | CS1: 48396 | CT1: 48427 | CU1: 48458 | CV1: 48488 | CW1: 48519 | CX1: 48549 | CY1: 48580 | CZ1: 48611 | DA1: 48639 | DB1: 48670 | DC1: 48700 | DD1: 48731 | DE1: 48761 | DF1: 48792 | DG1: 48823 | DH1: 48853 | DI1: 48884 | DJ1: 48914 | DK1: 48945 | DL1: 48976 | DM1: 49004 | DN1: 49035 | DO1: 49065 | DP1: 49096 | DQ1: 49126 | DR1: 49157 | DS1: 49188 | DT1: 49218 | DU1: 49249 | DV1: 49279
A2: Standalone VER | E2: PV Fixed | F2: =SUMIFS(F$29:F$1048576, $D$29:$D$1048576, $E$1, $E$29:$E$1048576, $E2) -> 0 | G2: =SUMIFS(G$29:G$1048576, $D$29:$D$1048576, $E$1, $E$29:$E$1048576, $E2) -> 0 | H2: =SUMIFS(H$29:H$1048576, $D$29:$D$1048576, $E$1, $E$29:$E$1048576, $E2) -> 0 | I2: =SUMIFS(I$29:I$1048576, $D$29:$D$1048576, $E$1, $E$29:$E$1048576, $E2) -> 0 | J2: =SUMIFS(J$29:J$1048576, $D$29:$D$1048576, $E$1, $E$29:$E$1048576, $E2) -> 0 | K2: =SUMIFS(K$29:K$1048576, $D$29:$D$1048576, $E$1, $E$29:$E$1048576, $E2) -> 0 | L2: =SUMIFS(L$29:L$1048576, $D$29:$D$1048576, $E$1, $E$29:$E$1048576, $E2) -> 0 | M2: =SUMIFS(M$29:M$1048576, $D$29:$D$1048576, $E$1, $E$29:$E$1048576, $E2) -> 0 | ... DV2: =SUMIFS(DV$29:DV$1048576, $D$29:$D$1048576, $E$1, $E$29:$E$1048576, $E2) -> 0
A3: Co-Located Resource Configuration | E3: PV Tracking | F3: =SUMIFS(F$29:F$1048576, $D$29:$D$1048576, $E$1, $E$29:$E$1048576, $E3) -> 0 | G3: =SUMIFS(G$29:G$1048576, $D$29:$D$1048576, $E$1, $E$29:$E$1048576, $E3) -> 0 | H3: =SUMIFS(H$29:H$1048576, $D$29:$D$1048576, $E$1, $E$29:$E$1048576, $E3) -> 0 | I3: =SUMIFS(I$29:I$1048576, $D$29:$D$1048576, $E$1, $E$29:$E$1048576, $E3) -> 0 | J3: =SUMIFS(J$29:J$1048576, $D$29:$D$1048576, $E$1, $E$29:$E$1048576, $E3) -> 0 | K3: =SUMIFS(K$29:K$1048576, $D$29:$D$1048576, $E$1, $E$29:$E$1048576, $E3) -> 0 | L3: =SUMIFS(L$29:L$1048576, $D$29:$D$1048576, $E$1, $E$29:$E$1048576, $E3) -> 0 | M3: =SUMIFS(M$29:M$1048576, $D$29:$D$1048576, $E$1, $E$29:$E$1048576, $E3) -> 0 | ... DV3: =SUMIFS(DV$29:DV$1048576, $D$29:$D$1048576, $E$1, $E$29:$E$1048576, $E3) -> 0
A4: Hybrid Resource | E4: PV Not yet decided | F4: =SUMIFS(F$29:F$1048576, $D$29:$D$1048576, $E$1, $E$29:$E$1048576, $E4) -> 0 | G4: =SUMIFS(G$29:G$1048576, $D$29:$D$1048576, $E$1, $E$29:$E$1048576, $E4) -> 0 | H4: =SUMIFS(H$29:H$1048576, $D$29:$D$1048576, $E$1, $E$29:$E$1048576, $E4) -> 0 | I4: =SUMIFS(I$29:I$1048576, $D$29:$D$1048576, $E$1, $E$29:$E$1048576, $E4) -> 0 | J4: =SUMIFS(J$29:J$1048576, $D$29:$D$1048576, $E$1, $E$29:$E$1048576, $E4) -> 0 | K4: =SUMIFS(K$29:K$1048576, $D$29:$D$1048576, $E$1, $E$29:$E$1048576, $E4) -> 0 | L4: =SUMIFS(L$29:L$1048576, $D$29:$D$1048576, $E$1, $E$29:$E$1048576, $E4) -> 0 | M4: =SUMIFS(M$29:M$1048576, $D$29:$D$1048576, $E$1, $E$29:$E$1048576, $E4) -> 0 | ... DV4: =SUMIFS(DV$29:DV$1048576, $D$29:$D$1048576, $E$1, $E$29:$E$1048576, $E4) -> 0
E5: Solar Thermal | F5: =SUMIFS(F$29:F$1048576, $D$29:$D$1048576, $E$1, $E$29:$E$1048576, $E5) -> 0 | G5: =SUMIFS(G$29:G$1048576, $D$29:$D$1048576, $E$1, $E$29:$E$1048576, $E5) -> 0 | H5: =SUMIFS(H$29:H$1048576, $D$29:$D$1048576, $E$1, $E$29:$E$1048576, $E5) -> 0 | I5: =SUMIFS(I$29:I$1048576, $D$29:$D$1048576, $E$1, $E$29:$E$1048576, $E5) -> 0 | J5: =SUMIFS(J$29:J$1048576, $D$29:$D$1048576, $E$1, $E$29:$E$1048576, $E5) -> 0 | K5: =SUMIFS(K$29:K$1048576, $D$29:$D$1048576, $E$1, $E$29:$E$1048576, $E5) -> 0 | L5: =SUMIFS(L$29:L$1048576, $D$29:$D$1048576, $E$1, $E$29:$E$1048576, $E5) -> 0 | M5: =SUMIFS(M$29:M$1048576, $D$29:$D$1048576, $E$1, $E$29:$E$1048576, $E5) -> 0 | ... DV5: =SUMIFS(DV$29:DV$1048576, $D$29:$D$1048576, $E$1, $E$29:$E$1048576, $E5) -> 0
E6: Wind | F6: =SUMIFS(F$29:F$1048576, $D$29:$D$1048576, $E$1, $E$29:$E$1048576, $E6) -> 0 | G6: =SUMIFS(G$29:G$1048576, $D$29:$D$1048576, $E$1, $E$29:$E$1048576, $E6) -> 0 | H6: =SUMIFS(H$29:H$1048576, $D$29:$D$1048576, $E$1, $E$29:$E$1048576, $E6) -> 0 | I6: =SUMIFS(I$29:I$1048576, $D$29:$D$1048576, $E$1, $E$29:$E$1048576, $E6) -> 0 | J6: =SUMIFS(J$29:J$1048576, $D$29:$D$1048576, $E$1, $E$29:$E$1048576, $E6) -> 0 | K6: =SUMIFS(K$29:K$1048576, $D$29:$D$1048576, $E$1, $E$29:$E$1048576, $E6) -> 0 | L6: =SUMIFS(L$29:L$1048576, $D$29:$D$1048576, $E$1, $E$29:$E$1048576, $E6) -> 0 | M6: =SUMIFS(M$29:M$1048576, $D$29:$D$1048576, $E$1, $E$29:$E$1048576, $E6) -> 0 | ... DV6: =SUMIFS(DV$29:DV$1048576, $D$29:$D$1048576, $E$1, $E$29:$E$1048576, $E6) -> 0
E7: TOTAL MW | F7: =SUM(F2:F6) -> 0 | G7: =SUM(G2:G6) -> 0 | H7: =SUM(H2:H6) -> 0 | I7: =SUM(I2:I6) -> 0 | J7: =SUM(J2:J6) -> 0 | K7: =SUM(K2:K6) -> 0 | L7: =SUM(L2:L6) -> 0 | M7: =SUM(M2:M6) -> 0 | ... DV7: =SUM(DV2:DV6) -> 0
E9: Co-Located Resource Configuration
E10: PV Fixed | F10: =SUMIFS(F$29:F$1048576, $D$29:$D$1048576, $E$9, $E$29:$E$1048576, $E10) -> 0 | G10: =SUMIFS(G$29:G$1048576, $D$29:$D$1048576, $E$9, $E$29:$E$1048576, $E10) -> 0 | H10: =SUMIFS(H$29:H$1048576, $D$29:$D$1048576, $E$9, $E$29:$E$1048576, $E10) -> 0 | I10: =SUMIFS(I$29:I$1048576, $D$29:$D$1048576, $E$9, $E$29:$E$1048576, $E10) -> 0 | J10: =SUMIFS(J$29:J$1048576, $D$29:$D$1048576, $E$9, $E$29:$E$1048576, $E10) -> 0 | K10: =SUMIFS(K$29:K$1048576, $D$29:$D$1048576, $E$9, $E$29:$E$1048576, $E10) -> 0 | L10: =SUMIFS(L$29:L$1048576, $D$29:$D$1048576, $E$9, $E$29:$E$1048576, $E10) -> 0 | M10: =SUMIFS(M$29:M$1048576, $D$29:$D$1048576, $E$9, $E$29:$E$1048576, $E10) -> 0 | ... DV10: =SUMIFS(DV$29:DV$1048576, $D$29:$D$1048576, $E$9, $E$29:$E$1048576, $E10) -> 0
E11: PV Tracking | F11: =SUMIFS(F$29:F$1048576, $D$29:$D$1048576, $E$9, $E$29:$E$1048576, $E11) -> 0 | G11: =SUMIFS(G$29:G$1048576, $D$29:$D$1048576, $E$9, $E$29:$E$1048576, $E11) -> 0 | H11: =SUMIFS(H$29:H$1048576, $D$29:$D$1048576, $E$9, $E$29:$E$1048576, $E11) -> 0 | I11: =SUMIFS(I$29:I$1048576, $D$29:$D$1048576, $E$9, $E$29:$E$1048576, $E11) -> 0 | J11: =SUMIFS(J$29:J$1048576, $D$29:$D$1048576, $E$9, $E$29:$E$1048576, $E11) -> 0 | K11: =SUMIFS(K$29:K$1048576, $D$29:$D$1048576, $E$9, $E$29:$E$1048576, $E11) -> 0 | L11: =SUMIFS(L$29:L$1048576, $D$29:$D$1048576, $E$9, $E$29:$E$1048576, $E11) -> 0 | M11: =SUMIFS(M$29:M$1048576, $D$29:$D$1048576, $E$9, $E$29:$E$1048576, $E11) -> 0 | ... DV11: =SUMIFS(DV$29:DV$1048576, $D$29:$D$1048576, $E$9, $E$29:$E$1048576, $E11) -> 0
E12: PV Not yet decided | F12: =SUMIFS(F$29:F$1048576, $D$29:$D$1048576, $E$9, $E$29:$E$1048576, $E12) -> 0 | G12: =SUMIFS(G$29:G$1048576, $D$29:$D$1048576, $E$9, $E$29:$E$1048576, $E12) -> 0 | H12: =SUMIFS(H$29:H$1048576, $D$29:$D$1048576, $E$9, $E$29:$E$1048576, $E12) -> 0 | I12: =SUMIFS(I$29:I$1048576, $D$29:$D$1048576, $E$9, $E$29:$E$1048576, $E12) -> 0 | J12: =SUMIFS(J$29:J$1048576, $D$29:$D$1048576, $E$9, $E$29:$E$1048576, $E12) -> 0 | K12: =SUMIFS(K$29:K$1048576, $D$29:$D$1048576, $E$9, $E$29:$E$1048576, $E12) -> 0 | L12: =SUMIFS(L$29:L$1048576, $D$29:$D$1048576, $E$9, $E$29:$E$1048576, $E12) -> 0 | M12: =SUMIFS(M$29:M$1048576, $D$29:$D$1048576, $E$9, $E$29:$E$1048576, $E12) -> 0 | ... DV12: =SUMIFS(DV$29:DV$1048576, $D$29:$D$1048576, $E$9, $E$29:$E$1048576, $E12) -> 0
E13: Solar Thermal | F13: =SUMIFS(F$29:F$1048576, $D$29:$D$1048576, $E$9, $E$29:$E$1048576, $E13) -> 0 | G13: =SUMIFS(G$29:G$1048576, $D$29:$D$1048576, $E$9, $E$29:$E$1048576, $E13) -> 0 | H13: =SUMIFS(H$29:H$1048576, $D$29:$D$1048576, $E$9, $E$29:$E$1048576, $E13) -> 0 | I13: =SUMIFS(I$29:I$1048576, $D$29:$D$1048576, $E$9, $E$29:$E$1048576, $E13) -> 0 | J13: =SUMIFS(J$29:J$1048576, $D$29:$D$1048576, $E$9, $E$29:$E$1048576, $E13) -> 0 | K13: =SUMIFS(K$29:K$1048576, $D$29:$D$1048576, $E$9, $E$29:$E$1048576, $E13) -> 0 | L13: =SUMIFS(L$29:L$1048576, $D$29:$D$1048576, $E$9, $E$29:$E$1048576, $E13) -> 0 | M13: =SUMIFS(M$29:M$1048576, $D$29:$D$1048576, $E$9, $E$29:$E$1048576, $E13) -> 0 | ... DV13: =SUMIFS(DV$29:DV$1048576, $D$29:$D$1048576, $E$9, $E$29:$E$1048576, $E13) -> 0
E14: Wind | F14: =SUMIFS(F$29:F$1048576, $D$29:$D$1048576, $E$9, $E$29:$E$1048576, $E14) -> 0 | G14: =SUMIFS(G$29:G$1048576, $D$29:$D$1048576, $E$9, $E$29:$E$1048576, $E14) -> 0 | H14: =SUMIFS(H$29:H$1048576, $D$29:$D$1048576, $E$9, $E$29:$E$1048576, $E14) -> 0 | I14: =SUMIFS(I$29:I$1048576, $D$29:$D$1048576, $E$9, $E$29:$E$1048576, $E14) -> 0 | J14: =SUMIFS(J$29:J$1048576, $D$29:$D$1048576, $E$9, $E$29:$E$1048576, $E14) -> 0 | K14: =SUMIFS(K$29:K$1048576, $D$29:$D$1048576, $E$9, $E$29:$E$1048576, $E14) -> 0 | L14: =SUMIFS(L$29:L$1048576, $D$29:$D$1048576, $E$9, $E$29:$E$1048576, $E14) -> 0 | M14: =SUMIFS(M$29:M$1048576, $D$29:$D$1048576, $E$9, $E$29:$E$1048576, $E14) -> 0 | ... DV14: =SUMIFS(DV$29:DV$1048576, $D$29:$D$1048576, $E$9, $E$29:$E$1048576, $E14) -> 0
E15: Battery | F15: =SUMIFS(F$29:F$1048576, $D$29:$D$1048576, $E$9, $E$29:$E$1048576, $E15) -> 0 | G15: =SUMIFS(G$29:G$1048576, $D$29:$D$1048576, $E$9, $E$29:$E$1048576, $E15) -> 0 | H15: =SUMIFS(H$29:H$1048576, $D$29:$D$1048576, $E$9, $E$29:$E$1048576, $E15) -> 0 | I15: =SUMIFS(I$29:I$1048576, $D$29:$D$1048576, $E$9, $E$29:$E$1048576, $E15) -> 0 | J15: =SUMIFS(J$29:J$1048576, $D$29:$D$1048576, $E$9, $E$29:$E$1048576, $E15) -> 0 | K15: =SUMIFS(K$29:K$1048576, $D$29:$D$1048576, $E$9, $E$29:$E$1048576, $E15) -> 0 | L15: =SUMIFS(L$29:L$1048576, $D$29:$D$1048576, $E$9, $E$29:$E$1048576, $E15) -> 0 | M15: =SUMIFS(M$29:M$1048576, $D$29:$D$1048576, $E$9, $E$29:$E$1048576, $E15) -> 0 | ... DV15: =SUMIFS(DV$29:DV$1048576, $D$29:$D$1048576, $E$9, $E$29:$E$1048576, $E15) -> 0
E16: TOTAL MW | F16: =SUM(F10:F15) -> 0 | G16: =SUM(G10:G15) -> 0 | H16: =SUM(H10:H15) -> 0 | I16: =SUM(I10:I15) -> 0 | J16: =SUM(J10:J15) -> 0 | K16: =SUM(K10:K15) -> 0 | L16: =SUM(L10:L15) -> 0 | M16: =SUM(M10:M15) -> 0 | ... DV16: =SUM(DV10:DV15) -> 0
E18: Hybrid Resource
E19: PV Fixed | F19: =SUMIFS(F$29:F$1048576, $D$29:$D$1048576, $E$18, $E$29:$E$1048576, $E19) -> 0 | G19: =SUMIFS(G$29:G$1048576, $D$29:$D$1048576, $E$18, $E$29:$E$1048576, $E19) -> 0 | H19: =SUMIFS(H$29:H$1048576, $D$29:$D$1048576, $E$18, $E$29:$E$1048576, $E19) -> 0 | I19: =SUMIFS(I$29:I$1048576, $D$29:$D$1048576, $E$18, $E$29:$E$1048576, $E19) -> 0 | J19: =SUMIFS(J$29:J$1048576, $D$29:$D$1048576, $E$18, $E$29:$E$1048576, $E19) -> 0 | K19: =SUMIFS(K$29:K$1048576, $D$29:$D$1048576, $E$18, $E$29:$E$1048576, $E19) -> 0 | L19: =SUMIFS(L$29:L$1048576, $D$29:$D$1048576, $E$18, $E$29:$E$1048576, $E19) -> 0 | M19: =SUMIFS(M$29:M$1048576, $D$29:$D$1048576, $E$18, $E$29:$E$1048576, $E19) -> 0 | ... DV19: =SUMIFS(DV$29:DV$1048576, $D$29:$D$1048576, $E$18, $E$29:$E$1048576, $E19) -> 0
E20: PV Tracking | F20: =SUMIFS(F$29:F$1048576, $D$29:$D$1048576, $E$18, $E$29:$E$1048576, $E20) -> 0 | G20: =SUMIFS(G$29:G$1048576, $D$29:$D$1048576, $E$18, $E$29:$E$1048576, $E20) -> 0 | H20: =SUMIFS(H$29:H$1048576, $D$29:$D$1048576, $E$18, $E$29:$E$1048576, $E20) -> 0 | I20: =SUMIFS(I$29:I$1048576, $D$29:$D$1048576, $E$18, $E$29:$E$1048576, $E20) -> 0 | J20: =SUMIFS(J$29:J$1048576, $D$29:$D$1048576, $E$18, $E$29:$E$1048576, $E20) -> 0 | K20: =SUMIFS(K$29:K$1048576, $D$29:$D$1048576, $E$18, $E$29:$E$1048576, $E20) -> 0 | L20: =SUMIFS(L$29:L$1048576, $D$29:$D$1048576, $E$18, $E$29:$E$1048576, $E20) -> 0 | M20: =SUMIFS(M$29:M$1048576, $D$29:$D$1048576, $E$18, $E$29:$E$1048576, $E20) -> 0 | ... DV20: =SUMIFS(DV$29:DV$1048576, $D$29:$D$1048576, $E$18, $E$29:$E$1048576, $E20) -> 0
E21: PV Not yet decided | F21: =SUMIFS(F$29:F$1048576, $D$29:$D$1048576, $E$18, $E$29:$E$1048576, $E21) -> 0 | G21: =SUMIFS(G$29:G$1048576, $D$29:$D$1048576, $E$18, $E$29:$E$1048576, $E21) -> 0 | H21: =SUMIFS(H$29:H$1048576, $D$29:$D$1048576, $E$18, $E$29:$E$1048576, $E21) -> 0 | I21: =SUMIFS(I$29:I$1048576, $D$29:$D$1048576, $E$18, $E$29:$E$1048576, $E21) -> 0 | J21: =SUMIFS(J$29:J$1048576, $D$29:$D$1048576, $E$18, $E$29:$E$1048576, $E21) -> 0 | K21: =SUMIFS(K$29:K$1048576, $D$29:$D$1048576, $E$18, $E$29:$E$1048576, $E21) -> 0 | L21: =SUMIFS(L$29:L$1048576, $D$29:$D$1048576, $E$18, $E$29:$E$1048576, $E21) -> 0 | M21: =SUMIFS(M$29:M$1048576, $D$29:$D$1048576, $E$18, $E$29:$E$1048576, $E21) -> 0 | ... DV21: =SUMIFS(DV$29:DV$1048576, $D$29:$D$1048576, $E$18, $E$29:$E$1048576, $E21) -> 0
E22: Solar Thermal | F22: =SUMIFS(F$29:F$1048576, $D$29:$D$1048576, $E$18, $E$29:$E$1048576, $E22) -> 0 | G22: =SUMIFS(G$29:G$1048576, $D$29:$D$1048576, $E$18, $E$29:$E$1048576, $E22) -> 0 | H22: =SUMIFS(H$29:H$1048576, $D$29:$D$1048576, $E$18, $E$29:$E$1048576, $E22) -> 0 | I22: =SUMIFS(I$29:I$1048576, $D$29:$D$1048576, $E$18, $E$29:$E$1048576, $E22) -> 0 | J22: =SUMIFS(J$29:J$1048576, $D$29:$D$1048576, $E$18, $E$29:$E$1048576, $E22) -> 0 | K22: =SUMIFS(K$29:K$1048576, $D$29:$D$1048576, $E$18, $E$29:$E$1048576, $E22) -> 0 | L22: =SUMIFS(L$29:L$1048576, $D$29:$D$1048576, $E$18, $E$29:$E$1048576, $E22) -> 0 | M22: =SUMIFS(M$29:M$1048576, $D$29:$D$1048576, $E$18, $E$29:$E$1048576, $E22) -> 0 | ... DV22: =SUMIFS(DV$29:DV$1048576, $D$29:$D$1048576, $E$18, $E$29:$E$1048576, $E22) -> 0
A23: *The capacity entered on each row should only represent the capacity of that technology or component type* | E23: Wind | F23: =SUMIFS(F$29:F$1048576, $D$29:$D$1048576, $E$18, $E$29:$E$1048576, $E23) -> 0 | G23: =SUMIFS(G$29:G$1048576, $D$29:$D$1048576, $E$18, $E$29:$E$1048576, $E23) -> 0 | H23: =SUMIFS(H$29:H$1048576, $D$29:$D$1048576, $E$18, $E$29:$E$1048576, $E23) -> 0 | I23: =SUMIFS(I$29:I$1048576, $D$29:$D$1048576, $E$18, $E$29:$E$1048576, $E23) -> 0 | J23: =SUMIFS(J$29:J$1048576, $D$29:$D$1048576, $E$18, $E$29:$E$1048576, $E23) -> 0 | K23: =SUMIFS(K$29:K$1048576, $D$29:$D$1048576, $E$18, $E$29:$E$1048576, $E23) -> 0 | L23: =SUMIFS(L$29:L$1048576, $D$29:$D$1048576, $E$18, $E$29:$E$1048576, $E23) -> 0 | M23: =SUMIFS(M$29:M$1048576, $D$29:$D$1048576, $E$18, $E$29:$E$1048576, $E23) -> 0 | ... DV23: =SUMIFS(DV$29:DV$1048576, $D$29:$D$1048576, $E$18, $E$29:$E$1048576, $E23) -> 0
E24: Battery | F24: =SUMIFS(F$29:F$1048576, $D$29:$D$1048576, $E$18, $E$29:$E$1048576, $E24) -> 0 | G24: =SUMIFS(G$29:G$1048576, $D$29:$D$1048576, $E$18, $E$29:$E$1048576, $E24) -> 0 | H24: =SUMIFS(H$29:H$1048576, $D$29:$D$1048576, $E$18, $E$29:$E$1048576, $E24) -> 0 | I24: =SUMIFS(I$29:I$1048576, $D$29:$D$1048576, $E$18, $E$29:$E$1048576, $E24) -> 0 | J24: =SUMIFS(J$29:J$1048576, $D$29:$D$1048576, $E$18, $E$29:$E$1048576, $E24) -> 0 | K24: =SUMIFS(K$29:K$1048576, $D$29:$D$1048576, $E$18, $E$29:$E$1048576, $E24) -> 0 | L24: =SUMIFS(L$29:L$1048576, $D$29:$D$1048576, $E$18, $E$29:$E$1048576, $E24) -> 0 | M24: =SUMIFS(M$29:M$1048576, $D$29:$D$1048576, $E$18, $E$29:$E$1048576, $E24) -> 0 | ... DV24: =SUMIFS(DV$29:DV$1048576, $D$29:$D$1048576, $E$18, $E$29:$E$1048576, $E24) -> 0
E25: TOTAL MW | F25: =SUM(F19:F24) -> 0 | G25: =SUM(G19:G24) -> 0 | H25: =SUM(H19:H24) -> 0 | I25: =SUM(I19:I24) -> 0 | J25: =SUM(J19:J24) -> 0 | K25: =SUM(K19:K24) -> 0 | L25: =SUM(L19:L24) -> 0 | M25: =SUM(M19:M24) -> 0 | ... DV25: =SUM(DV19:DV24) -> 0
F27: All data entered needs to be in MW, not MWH | W27: All data entered needs to be in MW, not MWH | AN27: All data entered needs to be in MW, not MWH | BE27: All data entered needs to be in MW, not MWH | BV27: All data entered needs to be in MW, not MWH | CM27: All data entered needs to be in MW, not MWH | DD27: All data entered needs to be in MW, not MWH
A28: Project Name (ACC for Co-Located resource) | B28: CAISO ID (Component ID for hybrids) | C28: MSS Load Following? | D28: Resource category | E28: Technology or hybrid component | F28: =F1 -> Existing on 1/1/25 | G28: =G1 -> 45658 | H28: =H1 -> 45689 | I28: =I1 -> 45717 | J28: =J1 -> 45748 | K28: =K1 -> 45778 | L28: =L1 -> 45809 | M28: =M1 -> 45839 | ... DV28: =DV1 -> 49279
A29: EXAMPLE Hybrid Resource 1 | B29: Example_hybrid_battery | C29: No | D29: Hybrid Resource | E29: Battery
A30: EXAMPLE Hybrid Resource 1 | B30: Example_hybrid_solar | C30: No | D30: Hybrid Resource | E30: PV Tracking

Sheet Non-CAISO MW by Tech
E1: Standalone VER | F1: ='CAISO MW by Tech'!F1 -> Existing on 1/1/25 | G1: ='CAISO MW by Tech'!G1 -> 45658 | H1: ='CAISO MW by Tech'!H1 -> 45689 | I1: ='CAISO MW by Tech'!I1 -> 45717 | J1: ='CAISO MW by Tech'!J1 -> 45748 | K1: ='CAISO MW by Tech'!K1 -> 45778 | L1: ='CAISO MW by Tech'!L1 -> 45809 | M1: ='CAISO MW by Tech'!M1 -> 45839 | ... DV1: ='CAISO MW by Tech'!DV1 -> 49279
A2: Yes | E2: PV Fixed | F2: =SUMIFS(F$29:F$1048576, $D$29:$D$1048576, $E$1, $E$29:$E$1048576, $E2) -> 0 | G2: =SUMIFS(G$29:G$1048576, $D$29:$D$1048576, $E$1, $E$29:$E$1048576, $E2) -> 0 | H2: =SUMIFS(H$29:H$1048576, $D$29:$D$1048576, $E$1, $E$29:$E$1048576, $E2) -> 0 | I2: =SUMIFS(I$29:I$1048576, $D$29:$D$1048576, $E$1, $E$29:$E$1048576, $E2) -> 0 | J2: =SUMIFS(J$29:J$1048576, $D$29:$D$1048576, $E$1, $E$29:$E$1048576, $E2) -> 0 | K2: =SUMIFS(K$29:K$1048576, $D$29:$D$1048576, $E$1, $E$29:$E$1048576, $E2) -> 0 | L2: =SUMIFS(L$29:L$1048576, $D$29:$D$1048576, $E$1, $E$29:$E$1048576, $E2) -> 0 | M2: =SUMIFS(M$29:M$1048576, $D$29:$D$1048576, $E$1, $E$29:$E$1048576, $E2) -> 0 | ... DV2: =SUMIFS(DV$29:DV$1048576, $D$29:$D$1048576, $E$1, $E$29:$E$1048576, $E2) -> 0
A3: No | E3: PV Tracking | F3: =SUMIFS(F$29:F$1048576, $D$29:$D$1048576, $E$1, $E$29:$E$1048576, $E3) -> 0 | G3: =SUMIFS(G$29:G$1048576, $D$29:$D$1048576, $E$1, $E$29:$E$1048576, $E3) -> 0 | H3: =SUMIFS(H$29:H$1048576, $D$29:$D$1048576, $E$1, $E$29:$E$1048576, $E3) -> 0 | I3: =SUMIFS(I$29:I$1048576, $D$29:$D$1048576, $E$1, $E$29:$E$1048576, $E3) -> 0 | J3: =SUMIFS(J$29:J$1048576, $D$29:$D$1048576, $E$1, $E$29:$E$1048576, $E3) -> 0 | K3: =SUMIFS(K$29:K$1048576, $D$29:$D$1048576, $E$1, $E$29:$E$1048576, $E3) -> 0 | L3: =SUMIFS(L$29:L$1048576, $D$29:$D$1048576, $E$1, $E$29:$E$1048576, $E3) -> 0 | M3: =SUMIFS(M$29:M$1048576, $D$29:$D$1048576, $E$1, $E$29:$E$1048576, $E3) -> 0 | ... DV3: =SUMIFS(DV$29:DV$1048576, $D$29:$D$1048576, $E$1, $E$29:$E$1048576, $E3) -> 0
E4: PV Not yet decided | F4: =SUMIFS(F$29:F$1048576, $D$29:$D$1048576, $E$1, $E$29:$E$1048576, $E4) -> 0 | G4: =SUMIFS(G$29:G$1048576, $D$29:$D$1048576, $E$1, $E$29:$E$1048576, $E4) -> 0 | H4: =SUMIFS(H$29:H$1048576, $D$29:$D$1048576, $E$1, $E$29:$E$1048576, $E4) -> 0 | I4: =SUMIFS(I$29:I$1048576, $D$29:$D$1048576, $E$1, $E$29:$E$1048576, $E4) -> 0 | J4: =SUMIFS(J$29:J$1048576, $D$29:$D$1048576, $E$1, $E$29:$E$1048576, $E4) -> 0 | K4: =SUMIFS(K$29:K$1048576, $D$29:$D$1048576, $E$1, $E$29:$E$1048576, $E4) -> 0 | L4: =SUMIFS(L$29:L$1048576, $D$29:$D$1048576, $E$1, $E$29:$E$1048576, $E4) -> 0 | M4: =SUMIFS(M$29:M$1048576, $D$29:$D$1048576, $E$1, $E$29:$E$1048576, $E4) -> 0 | ... DV4: =SUMIFS(DV$29:DV$1048576, $D$29:$D$1048576, $E$1, $E$29:$E$1048576, $E4) -> 0
E5: Solar Thermal | F5: =SUMIFS(F$29:F$1048576, $D$29:$D$1048576, $E$1, $E$29:$E$1048576, $E5) -> 0 | G5: =SUMIFS(G$29:G$1048576, $D$29:$D$1048576, $E$1, $E$29:$E$1048576, $E5) -> 0 | H5: =SUMIFS(H$29:H$1048576, $D$29:$D$1048576, $E$1, $E$29:$E$1048576, $E5) -> 0 | I5: =SUMIFS(I$29:I$1048576, $D$29:$D$1048576, $E$1, $E$29:$E$1048576, $E5) -> 0 | J5: =SUMIFS(J$29:J$1048576, $D$29:$D$1048576, $E$1, $E$29:$E$1048576, $E5) -> 0 | K5: =SUMIFS(K$29:K$1048576, $D$29:$D$1048576, $E$1, $E$29:$E$1048576, $E5) -> 0 | L5: =SUMIFS(L$29:L$1048576, $D$29:$D$1048576, $E$1, $E$29:$E$1048576, $E5) -> 0 | M5: =SUMIFS(M$29:M$1048576, $D$29:$D$1048576, $E$1, $E$29:$E$1048576, $E5) -> 0 | ... DV5: =SUMIFS(DV$29:DV$1048576, $D$29:$D$1048576, $E$1, $E$29:$E$1048576, $E5) -> 0
E6: Wind | F6: =SUMIFS(F$29:F$1048576, $D$29:$D$1048576, $E$1, $E$29:$E$1048576, $E6) -> 0 | G6: =SUMIFS(G$29:G$1048576, $D$29:$D$1048576, $E$1, $E$29:$E$1048576, $E6) -> 0 | H6: =SUMIFS(H$29:H$1048576, $D$29:$D$1048576, $E$1, $E$29:$E$1048576, $E6) -> 0 | I6: =SUMIFS(I$29:I$1048576, $D$29:$D$1048576, $E$1, $E$29:$E$1048576, $E6) -> 0 | J6: =SUMIFS(J$29:J$1048576, $D$29:$D$1048576, $E$1, $E$29:$E$1048576, $E6) -> 0 | K6: =SUMIFS(K$29:K$1048576, $D$29:$D$1048576, $E$1, $E$29:$E$1048576, $E6) -> 0 | L6: =SUMIFS(L$29:L$1048576, $D$29:$D$1048576, $E$1, $E$29:$E$1048576, $E6) -> 0 | M6: =SUMIFS(M$29:M$1048576, $D$29:$D$1048576, $E$1, $E$29:$E$1048576, $E6) -> 0 | ... DV6: =SUMIFS(DV$29:DV$1048576, $D$29:$D$1048576, $E$1, $E$29:$E$1048576, $E6) -> 0
E7: TOTAL MW | F7: =SUM(F2:F6) -> 0 | G7: =SUM(G2:G6) -> 0 | H7: =SUM(H2:H6) -> 0 | I7: =SUM(I2:I6) -> 0 | J7: =SUM(J2:J6) -> 0 | K7: =SUM(K2:K6) -> 0 | L7: =SUM(L2:L6) -> 0 | M7: =SUM(M2:M6) -> 0 | ... DV7: =SUM(DV2:DV6) -> 0
E9: Co-Located Resource Configuration
E10: PV Fixed | F10: =SUMIFS(F$29:F$1048576, $D$29:$D$1048576, $E$9, $E$29:$E$1048576, $E10) -> 0 | G10: =SUMIFS(G$29:G$1048576, $D$29:$D$1048576, $E$9, $E$29:$E$1048576, $E10) -> 0 | H10: =SUMIFS(H$29:H$1048576, $D$29:$D$1048576, $E$9, $E$29:$E$1048576, $E10) -> 0 | I10: =SUMIFS(I$29:I$1048576, $D$29:$D$1048576, $E$9, $E$29:$E$1048576, $E10) -> 0 | J10: =SUMIFS(J$29:J$1048576, $D$29:$D$1048576, $E$9, $E$29:$E$1048576, $E10) -> 0 | K10: =SUMIFS(K$29:K$1048576, $D$29:$D$1048576, $E$9, $E$29:$E$1048576, $E10) -> 0 | L10: =SUMIFS(L$29:L$1048576, $D$29:$D$1048576, $E$9, $E$29:$E$1048576, $E10) -> 0 | M10: =SUMIFS(M$29:M$1048576, $D$29:$D$1048576, $E$9, $E$29:$E$1048576, $E10) -> 0 | ... DV10: =SUMIFS(DV$29:DV$1048576, $D$29:$D$1048576, $E$9, $E$29:$E$1048576, $E10) -> 0
E11: PV Tracking | F11: =SUMIFS(F$29:F$1048576, $D$29:$D$1048576, $E$9, $E$29:$E$1048576, $E11) -> 0 | G11: =SUMIFS(G$29:G$1048576, $D$29:$D$1048576, $E$9, $E$29:$E$1048576, $E11) -> 0 | H11: =SUMIFS(H$29:H$1048576, $D$29:$D$1048576, $E$9, $E$29:$E$1048576, $E11) -> 0 | I11: =SUMIFS(I$29:I$1048576, $D$29:$D$1048576, $E$9, $E$29:$E$1048576, $E11) -> 0 | J11: =SUMIFS(J$29:J$1048576, $D$29:$D$1048576, $E$9, $E$29:$E$1048576, $E11) -> 0 | K11: =SUMIFS(K$29:K$1048576, $D$29:$D$1048576, $E$9, $E$29:$E$1048576, $E11) -> 0 | L11: =SUMIFS(L$29:L$1048576, $D$29:$D$1048576, $E$9, $E$29:$E$1048576, $E11) -> 0 | M11: =SUMIFS(M$29:M$1048576, $D$29:$D$1048576, $E$9, $E$29:$E$1048576, $E11) -> 0 | ... DV11: =SUMIFS(DV$29:DV$1048576, $D$29:$D$1048576, $E$9, $E$29:$E$1048576, $E11) -> 0
E12: PV Not yet decided | F12: =SUMIFS(F$29:F$1048576, $D$29:$D$1048576, $E$9, $E$29:$E$1048576, $E12) -> 0 | G12: =SUMIFS(G$29:G$1048576, $D$29:$D$1048576, $E$9, $E$29:$E$1048576, $E12) -> 0 | H12: =SUMIFS(H$29:H$1048576, $D$29:$D$1048576, $E$9, $E$29:$E$1048576, $E12) -> 0 | I12: =SUMIFS(I$29:I$1048576, $D$29:$D$1048576, $E$9, $E$29:$E$1048576, $E12) -> 0 | J12: =SUMIFS(J$29:J$1048576, $D$29:$D$1048576, $E$9, $E$29:$E$1048576, $E12) -> 0 | K12: =SUMIFS(K$29:K$1048576, $D$29:$D$1048576, $E$9, $E$29:$E$1048576, $E12) -> 0 | L12: =SUMIFS(L$29:L$1048576, $D$29:$D$1048576, $E$9, $E$29:$E$1048576, $E12) -> 0 | M12: =SUMIFS(M$29:M$1048576, $D$29:$D$1048576, $E$9, $E$29:$E$1048576, $E12) -> 0 | ... DV12: =SUMIFS(DV$29:DV$1048576, $D$29:$D$1048576, $E$9, $E$29:$E$1048576, $E12) -> 0
E13: Solar Thermal | F13: =SUMIFS(F$29:F$1048576, $D$29:$D$1048576, $E$9, $E$29:$E$1048576, $E13) -> 0 | G13: =SUMIFS(G$29:G$1048576, $D$29:$D$1048576, $E$9, $E$29:$E$1048576, $E13) -> 0 | H13: =SUMIFS(H$29:H$1048576, $D$29:$D$1048576, $E$9, $E$29:$E$1048576, $E13) -> 0 | I13: =SUMIFS(I$29:I$1048576, $D$29:$D$1048576, $E$9, $E$29:$E$1048576, $E13) -> 0 | J13: =SUMIFS(J$29:J$1048576, $D$29:$D$1048576, $E$9, $E$29:$E$1048576, $E13) -> 0 | K13: =SUMIFS(K$29:K$1048576, $D$29:$D$1048576, $E$9, $E$29:$E$1048576, $E13) -> 0 | L13: =SUMIFS(L$29:L$1048576, $D$29:$D$1048576, $E$9, $E$29:$E$1048576, $E13) -> 0 | M13: =SUMIFS(M$29:M$1048576, $D$29:$D$1048576, $E$9, $E$29:$E$1048576, $E13) -> 0 | ... DV13: =SUMIFS(DV$29:DV$1048576, $D$29:$D$1048576, $E$9, $E$29:$E$1048576, $E13) -> 0
E14: Wind | F14: =SUMIFS(F$29:F$1048576, $D$29:$D$1048576, $E$9, $E$29:$E$1048576, $E14) -> 0 | G14: =SUMIFS(G$29:G$1048576, $D$29:$D$1048576, $E$9, $E$29:$E$1048576, $E14) -> 0 | H14: =SUMIFS(H$29:H$1048576, $D$29:$D$1048576, $E$9, $E$29:$E$1048576, $E14) -> 0 | I14: =SUMIFS(I$29:I$1048576, $D$29:$D$1048576, $E$9, $E$29:$E$1048576, $E14) -> 0 | J14: =SUMIFS(J$29:J$1048576, $D$29:$D$1048576, $E$9, $E$29:$E$1048576, $E14) -> 0 | K14: =SUMIFS(K$29:K$1048576, $D$29:$D$1048576, $E$9, $E$29:$E$1048576, $E14) -> 0 | L14: =SUMIFS(L$29:L$1048576, $D$29:$D$1048576, $E$9, $E$29:$E$1048576, $E14) -> 0 | M14: =SUMIFS(M$29:M$1048576, $D$29:$D$1048576, $E$9, $E$29:$E$1048576, $E14) -> 0 | ... DV14: =SUMIFS(DV$29:DV$1048576, $D$29:$D$1048576, $E$9, $E$29:$E$1048576, $E14) -> 0
E15: Battery | F15: =SUMIFS(F$29:F$1048576, $D$29:$D$1048576, $E$9, $E$29:$E$1048576, $E15) -> 0 | G15: =SUMIFS(G$29:G$1048576, $D$29:$D$1048576, $E$9, $E$29:$E$1048576, $E15) -> 0 | H15: =SUMIFS(H$29:H$1048576, $D$29:$D$1048576, $E$9, $E$29:$E$1048576, $E15) -> 0 | I15: =SUMIFS(I$29:I$1048576, $D$29:$D$1048576, $E$9, $E$29:$E$1048576, $E15) -> 0 | J15: =SUMIFS(J$29:J$1048576, $D$29:$D$1048576, $E$9, $E$29:$E$1048576, $E15) -> 0 | K15: =SUMIFS(K$29:K$1048576, $D$29:$D$1048576, $E$9, $E$29:$E$1048576, $E15) -> 0 | L15: =SUMIFS(L$29:L$1048576, $D$29:$D$1048576, $E$9, $E$29:$E$1048576, $E15) -> 0 | M15: =SUMIFS(M$29:M$1048576, $D$29:$D$1048576, $E$9, $E$29:$E$1048576, $E15) -> 0 | ... DV15: =SUMIFS(DV$29:DV$1048576, $D$29:$D$1048576, $E$9, $E$29:$E$1048576, $E15) -> 0
E16: TOTAL MW | F16: =SUM(F10:F15) -> 0 | G16: =SUM(G10:G15) -> 0 | H16: =SUM(H10:H15) -> 0 | I16: =SUM(I10:I15) -> 0 | J16: =SUM(J10:J15) -> 0 | K16: =SUM(K10:K15) -> 0 | L16: =SUM(L10:L15) -> 0 | M16: =SUM(M10:M15) -> 0 | ... DV16: =SUM(DV10:DV15) -> 0
E18: Hybrid Resource
E19: PV Fixed | F19: =SUMIFS(F$29:F$1048576, $D$29:$D$1048576, $E$18, $E$29:$E$1048576, $E19) -> 0 | G19: =SUMIFS(G$29:G$1048576, $D$29:$D$1048576, $E$18, $E$29:$E$1048576, $E19) -> 0 | H19: =SUMIFS(H$29:H$1048576, $D$29:$D$1048576, $E$18, $E$29:$E$1048576, $E19) -> 0 | I19: =SUMIFS(I$29:I$1048576, $D$29:$D$1048576, $E$18, $E$29:$E$1048576, $E19) -> 0 | J19: =SUMIFS(J$29:J$1048576, $D$29:$D$1048576, $E$18, $E$29:$E$1048576, $E19) -> 0 | K19: =SUMIFS(K$29:K$1048576, $D$29:$D$1048576, $E$18, $E$29:$E$1048576, $E19) -> 0 | L19: =SUMIFS(L$29:L$1048576, $D$29:$D$1048576, $E$18, $E$29:$E$1048576, $E19) -> 0 | M19: =SUMIFS(M$29:M$1048576, $D$29:$D$1048576, $E$18, $E$29:$E$1048576, $E19) -> 0 | ... DV19: =SUMIFS(DV$29:DV$1048576, $D$29:$D$1048576, $E$18, $E$29:$E$1048576, $E19) -> 0
E20: PV Tracking | F20: =SUMIFS(F$29:F$1048576, $D$29:$D$1048576, $E$18, $E$29:$E$1048576, $E20) -> 0 | G20: =SUMIFS(G$29:G$1048576, $D$29:$D$1048576, $E$18, $E$29:$E$1048576, $E20) -> 0 | H20: =SUMIFS(H$29:H$1048576, $D$29:$D$1048576, $E$18, $E$29:$E$1048576, $E20) -> 0 | I20: =SUMIFS(I$29:I$1048576, $D$29:$D$1048576, $E$18, $E$29:$E$1048576, $E20) -> 0 | J20: =SUMIFS(J$29:J$1048576, $D$29:$D$1048576, $E$18, $E$29:$E$1048576, $E20) -> 0 | K20: =SUMIFS(K$29:K$1048576, $D$29:$D$1048576, $E$18, $E$29:$E$1048576, $E20) -> 0 | L20: =SUMIFS(L$29:L$1048576, $D$29:$D$1048576, $E$18, $E$29:$E$1048576, $E20) -> 0 | M20: =SUMIFS(M$29:M$1048576, $D$29:$D$1048576, $E$18, $E$29:$E$1048576, $E20) -> 0 | ... DV20: =SUMIFS(DV$29:DV$1048576, $D$29:$D$1048576, $E$18, $E$29:$E$1048576, $E20) -> 0
E21: PV Not yet decided | F21: =SUMIFS(F$29:F$1048576, $D$29:$D$1048576, $E$18, $E$29:$E$1048576, $E21) -> 0 | G21: =SUMIFS(G$29:G$1048576, $D$29:$D$1048576, $E$18, $E$29:$E$1048576, $E21) -> 0 | H21: =SUMIFS(H$29:H$1048576, $D$29:$D$1048576, $E$18, $E$29:$E$1048576, $E21) -> 0 | I21: =SUMIFS(I$29:I$1048576, $D$29:$D$1048576, $E$18, $E$29:$E$1048576, $E21) -> 0 | J21: =SUMIFS(J$29:J$1048576, $D$29:$D$1048576, $E$18, $E$29:$E$1048576, $E21) -> 0 | K21: =SUMIFS(K$29:K$1048576, $D$29:$D$1048576, $E$18, $E$29:$E$1048576, $E21) -> 0 | L21: =SUMIFS(L$29:L$1048576, $D$29:$D$1048576, $E$18, $E$29:$E$1048576, $E21) -> 0 | M21: =SUMIFS(M$29:M$1048576, $D$29:$D$1048576, $E$18, $E$29:$E$1048576, $E21) -> 0 | ... DV21: =SUMIFS(DV$29:DV$1048576, $D$29:$D$1048576, $E$18, $E$29:$E$1048576, $E21) -> 0
E22: Solar Thermal | F22: =SUMIFS(F$29:F$1048576, $D$29:$D$1048576, $E$18, $E$29:$E$1048576, $E22) -> 0 | G22: =SUMIFS(G$29:G$1048576, $D$29:$D$1048576, $E$18, $E$29:$E$1048576, $E22) -> 0 | H22: =SUMIFS(H$29:H$1048576, $D$29:$D$1048576, $E$18, $E$29:$E$1048576, $E22) -> 0 | I22: =SUMIFS(I$29:I$1048576, $D$29:$D$1048576, $E$18, $E$29:$E$1048576, $E22) -> 0 | J22: =SUMIFS(J$29:J$1048576, $D$29:$D$1048576, $E$18, $E$29:$E$1048576, $E22) -> 0 | K22: =SUMIFS(K$29:K$1048576, $D$29:$D$1048576, $E$18, $E$29:$E$1048576, $E22) -> 0 | L22: =SUMIFS(L$29:L$1048576, $D$29:$D$1048576, $E$18, $E$29:$E$1048576, $E22) -> 0 | M22: =SUMIFS(M$29:M$1048576, $D$29:$D$1048576, $E$18, $E$29:$E$1048576, $E22) -> 0 | ... DV22: =SUMIFS(DV$29:DV$1048576, $D$29:$D$1048576, $E$18, $E$29:$E$1048576, $E22) -> 0
A23: *The capacity entered on each row should only represent the capacity of that technology or component type* | E23: Wind | F23: =SUMIFS(F$29:F$1048576, $D$29:$D$1048576, $E$18, $E$29:$E$1048576, $E23) -> 0 | G23: =SUMIFS(G$29:G$1048576, $D$29:$D$1048576, $E$18, $E$29:$E$1048576, $E23) -> 0 | H23: =SUMIFS(H$29:H$1048576, $D$29:$D$1048576, $E$18, $E$29:$E$1048576, $E23) -> 0 | I23: =SUMIFS(I$29:I$1048576, $D$29:$D$1048576, $E$18, $E$29:$E$1048576, $E23) -> 0 | J23: =SUMIFS(J$29:J$1048576, $D$29:$D$1048576, $E$18, $E$29:$E$1048576, $E23) -> 0 | K23: =SUMIFS(K$29:K$1048576, $D$29:$D$1048576, $E$18, $E$29:$E$1048576, $E23) -> 0 | L23: =SUMIFS(L$29:L$1048576, $D$29:$D$1048576, $E$18, $E$29:$E$1048576, $E23) -> 0 | M23: =SUMIFS(M$29:M$1048576, $D$29:$D$1048576, $E$18, $E$29:$E$1048576, $E23) -> 0 | ... DV23: =SUMIFS(DV$29:DV$1048576, $D$29:$D$1048576, $E$18, $E$29:$E$1048576, $E23) -> 0
E24: Battery | F24: =SUMIFS(F$29:F$1048576, $D$29:$D$1048576, $E$18, $E$29:$E$1048576, $E24) -> 0 | G24: =SUMIFS(G$29:G$1048576, $D$29:$D$1048576, $E$18, $E$29:$E$1048576, $E24) -> 0 | H24: =SUMIFS(H$29:H$1048576, $D$29:$D$1048576, $E$18, $E$29:$E$1048576, $E24) -> 0 | I24: =SUMIFS(I$29:I$1048576, $D$29:$D$1048576, $E$18, $E$29:$E$1048576, $E24) -> 0 | J24: =SUMIFS(J$29:J$1048576, $D$29:$D$1048576, $E$18, $E$29:$E$1048576, $E24) -> 0 | K24: =SUMIFS(K$29:K$1048576, $D$29:$D$1048576, $E$18, $E$29:$E$1048576, $E24) -> 0 | L24: =SUMIFS(L$29:L$1048576, $D$29:$D$1048576, $E$18, $E$29:$E$1048576, $E24) -> 0 | M24: =SUMIFS(M$29:M$1048576, $D$29:$D$1048576, $E$18, $E$29:$E$1048576, $E24) -> 0 | ... DV24: =SUMIFS(DV$29:DV$1048576, $D$29:$D$1048576, $E$18, $E$29:$E$1048576, $E24) -> 0
E25: TOTAL MW | F25: =SUM(F19:F24) -> 0 | G25: =SUM(G19:G24) -> 0 | H25: =SUM(H19:H24) -> 0 | I25: =SUM(I19:I24) -> 0 | J25: =SUM(J19:J24) -> 0 | K25: =SUM(K19:K24) -> 0 | L25: =SUM(L19:L24) -> 0 | M25: =SUM(M19:M24) -> 0 | ... DV25: =SUM(DV19:DV24) -> 0
F27: All data entered needs to be in MW, not MWH | W27: All data entered needs to be in MW, not MWH | AN27: All data entered needs to be in MW, not MWH | BE27: All data entered needs to be in MW, not MWH | BV27: All data entered needs to be in MW, not MWH | CM27: All data entered needs to be in MW, not MWH | DD27: All data entered needs to be in MW, not MWH
A28: Project Name | B28: Region | C28: Firmed? | D28: Resource Category | E28: Technology | F28: =F1 -> Existing on 1/1/25 | G28: =G1 -> 45658 | H28: =H1 -> 45689 | I28: =I1 -> 45717 | J28: =J1 -> 45748 | K28: =K1 -> 45778 | L28: =L1 -> 45809 | M28: =M1 -> 45839 | ... DV28: =DV1 -> 49279

Sheet Behind-the-meter PV
A1: Region | B1: Technology | C1: 2025 | D1: =C1+1 -> 2026 | E1: =D1+1 -> 2027 | F1: =E1+1 -> 2028 | G1: =F1+1 -> 2029 | H1: =G1+1 -> 2030 | I1: =H1+1 -> 2031
B2: Behind-the-meter PV - End of year (MW)
B3: Behind-the-meter PV - Cummulative (MW) | C3: =C2 -> 0 | D3: =SUM(C2:D2) -> 0 | E3: =SUM(C2:E2) -> 0 | F3: =SUM(C2:F2) -> 0 | G3: =SUM(C2:G2) -> 0 | H3: =SUM(C2:H2) -> 0 | I3: =SUM(C2:I2) -> 0
C5: The value in cell C3 for 2025 should be the installed BTM capacity at the end of the year
D7: For cells D2 through I2 provide MW for Behind-the-Meter incremental additions in each year starting in 2026
D9: Row 3 will add the cummulative values by year, so there is no additional data entry needed for row 3

Sheet CREZ list
A1: CREZ | C1: Technology options
A2: Alberta | C2: PV Fixed
A3: Arizona | C3: PV Tracking
A4: Baja | C4: PV Not yet decided
A5: Barstow | C5: Solar Thermal
A6: British Columbia | C6: Wind
A7: Carrizo North
A8: Carrizo South
A9: Colorado
A10: Cuyama
A11: Distributed Solar - PG&E
A12: Distributed Solar - SCE
A13: Distributed Solar - SDGE
A14: Distributed Solar - Other
A15: Fairmont
A16: Imperial
A17: Inyokern
A18: Iron Mountain
... A53: Wyoming
